BEGIN:VCALENDAR
VERSION:2.0
PRODID:-//http://test2.westgatebaptist.org.au//NONSGML kigkonsult.se iCalcr
 eator 2.29.14//
CALSCALE:GREGORIAN
METHOD:PUBLISH
UID:4ce43f80-8450-4fb9-9745-b56e7c67c97a
X-WR-CALNAME:JCal Pro Calendar
X-WR-CALDESC:Your online events calendar
X-WR-TIMEZONE:Australia/Melbourne
BEGIN:VTIMEZONE
TZID:Australia/Melbourne
BEGIN:STANDARD
TZNAME:AEST
DTSTART:20190407T030000
TZOFFSETFROM:+1100
TZOFFSETTO:+1000
RDATE:20200405T030000
RDATE:20210404T030000
END:STANDARD
BEGIN:DAYLIGHT
TZNAME:AEDT
DTSTART:20191006T020000
TZOFFSETFROM:+1000
TZOFFSETTO:+1100
RDATE:20201004T020000
END:DAYLIGHT
END:VTIMEZONE
BEGIN:VEVENT
UID:20190526T220000AEST-17460ZDn62@https://test2.westgatebaptist.org.au/
DTSTAMP:20200302T075805Z
CATEGORIES:Worship
DTSTART;TZID=Australia/Melbourne:20190526T220000
DTEND;TZID=Australia/Melbourne:20190526T220000
RRULE:FREQ=WEEKLY;UNTIL=20201226T130000Z;INTERVAL=1;BYDAY=SU
SUMMARY:Worship
URL:http://test2.westgatebaptist.org.au/index.php/component/jcalpro/17-wors
 hip/29-worship
END:VEVENT
END:VCALENDAR
